BEGIN:VCALENDAR
VERSION:2.0
PRODID:-//St. Andrews University - ECPv6.15.20//NONSGML v1.0//EN
CALSCALE:GREGORIAN
METHOD:PUBLISH
X-WR-CALNAME:St. Andrews University
X-ORIGINAL-URL:https://www.sa.edu
X-WR-CALDESC:Events for St. Andrews University
REFRESH-INTERVAL;VALUE=DURATION:PT1H
X-Robots-Tag:noindex
X-PUBLISHED-TTL:PT1H
BEGIN:VTIMEZONE
TZID:America/New_York
BEGIN:DAYLIGHT
TZOFFSETFROM:-0500
TZOFFSETTO:-0400
TZNAME:EDT
DTSTART:20230312T070000
END:DAYLIGHT
BEGIN:STANDARD
TZOFFSETFROM:-0400
TZOFFSETTO:-0500
TZNAME:EST
DTSTART:20231105T060000
END:STANDARD
BEGIN:DAYLIGHT
TZOFFSETFROM:-0500
TZOFFSETTO:-0400
TZNAME:EDT
DTSTART:20240310T070000
END:DAYLIGHT
BEGIN:STANDARD
TZOFFSETFROM:-0400
TZOFFSETTO:-0500
TZNAME:EST
DTSTART:20241103T060000
END:STANDARD
BEGIN:DAYLIGHT
TZOFFSETFROM:-0500
TZOFFSETTO:-0400
TZNAME:EDT
DTSTART:20250309T070000
END:DAYLIGHT
BEGIN:STANDARD
TZOFFSETFROM:-0400
TZOFFSETTO:-0500
TZNAME:EST
DTSTART:20251102T060000
END:STANDARD
END:VTIMEZONE
BEGIN:VEVENT
DTSTART;TZID=America/New_York:20240930T080000
DTEND;TZID=America/New_York:20240930T080000
DTSTAMP:20260420T041313
CREATED:20241001T210601Z
LAST-MODIFIED:20241001T210601Z
UID:12672-1727683200-1727683200@www.sa.edu
SUMMARY:Last day to withdraw from a Demi 1 & Session A course with a "W" grade
DESCRIPTION:
URL:https://www.sa.edu/event/last-day-to-withdraw-from-a-demi-1-session-a-course-with-a-w-grade/
LOCATION:NC
END:VEVENT
BEGIN:VEVENT
DTSTART;VALUE=DATE:20240929
DTEND;VALUE=DATE:20240930
DTSTAMP:20260420T041313
CREATED:20241001T214006Z
LAST-MODIFIED:20241001T214006Z
UID:12755-1727568000-1727654399@www.sa.edu
SUMMARY:JV Mens Soccer - Away
DESCRIPTION:
URL:https://www.sa.edu/event/jv-mens-soccer-away/
LOCATION:NC
END:VEVENT
BEGIN:VEVENT
DTSTART;TZID=America/New_York:20240928T190000
DTEND;TZID=America/New_York:20240928T190000
DTSTAMP:20260420T041313
CREATED:20241001T224622Z
LAST-MODIFIED:20241001T224622Z
UID:12922-1727550000-1727550000@www.sa.edu
SUMMARY:FlaminGLO Fun Run! (Rescheduled from Sep 14 to Sep 28)
DESCRIPTION:———— \nFrom:                                         Activities \nSent:                                           Saturday\, September 14\, 2024 12:00 PM \nTo:                                               All_Students; All_Staff; All_Faculty \nSubject:                                     Join Us for the FlaminGLO Fun Run! \nAttachments:                          FlaminGLO Details.pdf \nKnight Nation\, \nThis evening starting at 7:00pm the Live Like Madison FlaminGLO Fun Run is happening right here on campus! \nWhat to Expect: \n*         Glow-In-The-Dark Fun Run \n*         Luminaries \n*         Games \n*         Music \n*         Food \nDon’t miss out on this glowing evening of fun\, food\, music\, and more. Bring your friends and make some amazing memories at the Live Like Madison FlaminGLO Fun Run! Whether you’re participating in the run\, cheering on friends\, or just coming for the fun\, we can’t wait to see you there!
URL:https://www.sa.edu/event/flaminglo-fun-run-rescheduled-from-sep-14-to-sep-28/
LOCATION:NC
END:VEVENT
BEGIN:VEVENT
DTSTART;TZID=America/New_York:20240928T153000
DTEND;TZID=America/New_York:20240928T153000
DTSTAMP:20260420T041313
CREATED:20241001T204153Z
LAST-MODIFIED:20241001T204153Z
UID:12609-1727537400-1727537400@www.sa.edu
SUMMARY:(Football) St. Andrews (NC) at Lindsey Wilson
DESCRIPTION:
URL:https://www.sa.edu/event/football-st-andrews-nc-at-lindsey-wilson/
LOCATION:NC
END:VEVENT
BEGIN:VEVENT
DTSTART;TZID=America/New_York:20240928T143000
DTEND;TZID=America/New_York:20240928T143000
DTSTAMP:20260420T041313
CREATED:20241001T203954Z
LAST-MODIFIED:20241001T203954Z
UID:12607-1727533800-1727533800@www.sa.edu
SUMMARY:(Men's Soccer) Truett-McConnell vs. St. Andrews (NC)
DESCRIPTION:
URL:https://www.sa.edu/event/mens-soccer-truett-mcconnell-vs-st-andrews-nc/
LOCATION:NC
END:VEVENT
BEGIN:VEVENT
DTSTART;TZID=America/New_York:20240928T120000
DTEND;TZID=America/New_York:20240928T120000
DTSTAMP:20260420T041313
CREATED:20241001T203954Z
LAST-MODIFIED:20241001T203954Z
UID:12606-1727524800-1727524800@www.sa.edu
SUMMARY:(Women's Soccer) Truett-McConnell vs. St. Andrews (NC)
DESCRIPTION:
URL:https://www.sa.edu/event/womens-soccer-truett-mcconnell-vs-st-andrews-nc/
LOCATION:NC
END:VEVENT
BEGIN:VEVENT
DTSTART;TZID=America/New_York:20240927T170000
DTEND;TZID=America/New_York:20240927T170000
DTSTAMP:20260420T041313
CREATED:20241001T201549Z
LAST-MODIFIED:20241001T201549Z
UID:12544-1727456400-1727456400@www.sa.edu
SUMMARY:Alumni Council Meeting
DESCRIPTION:
URL:https://www.sa.edu/event/alumni-council-meeting/
LOCATION:NC
END:VEVENT
BEGIN:VEVENT
DTSTART;TZID=America/New_York:20240927T083000
DTEND;TZID=America/New_York:20240927T083000
DTSTAMP:20260420T041313
CREATED:20241001T201543Z
LAST-MODIFIED:20241001T201543Z
UID:12538-1727425800-1727425800@www.sa.edu
SUMMARY:Dunkin Cruiser -set up with free drinks and snacks
DESCRIPTION:
URL:https://www.sa.edu/event/dunkin-cruiser-set-up-with-free-drinks-and-snacks/
LOCATION:NC
END:VEVENT
BEGIN:VEVENT
DTSTART;TZID=America/New_York:20240927T080000
DTEND;TZID=America/New_York:20240927T080000
DTSTAMP:20260420T041313
CREATED:20241001T213806Z
LAST-MODIFIED:20241001T213806Z
UID:12749-1727424000-1727424000@www.sa.edu
SUMMARY:State of Education Panel Discussion (Dr. Malik)
DESCRIPTION:
URL:https://www.sa.edu/event/state-of-education-panel-discussion-dr-malik/
LOCATION:NC
END:VEVENT
BEGIN:VEVENT
DTSTART;TZID=America/New_York:20240926T183000
DTEND;TZID=America/New_York:20240926T183000
DTSTAMP:20260420T041313
CREATED:20241001T203754Z
LAST-MODIFIED:20241001T203754Z
UID:12602-1727375400-1727375400@www.sa.edu
SUMMARY:(Women's Volleyball) Reinhardt (GA) vs. St. Andrews (NC)
DESCRIPTION:
URL:https://www.sa.edu/event/womens-volleyball-reinhardt-ga-vs-st-andrews-nc/
LOCATION:NC
END:VEVENT
BEGIN:VEVENT
DTSTART;TZID=America/New_York:20240925T170000
DTEND;TZID=America/New_York:20240925T170000
DTSTAMP:20260420T041313
CREATED:20241001T203953Z
LAST-MODIFIED:20241001T203953Z
UID:12604-1727283600-1727283600@www.sa.edu
SUMMARY:(Women's Soccer) St. Andrews (NC) at CIU (SC)
DESCRIPTION:
URL:https://www.sa.edu/event/womens-soccer-st-andrews-nc-at-ciu-sc/
LOCATION:NC
END:VEVENT
BEGIN:VEVENT
DTSTART;TZID=America/New_York:20240925T170000
DTEND;TZID=America/New_York:20240925T170000
DTSTAMP:20260420T041313
CREATED:20241001T203953Z
LAST-MODIFIED:20241001T203953Z
UID:12603-1727283600-1727283600@www.sa.edu
SUMMARY:(Men's Soccer) St. Andrews (NC) at CIU (SC)
DESCRIPTION:
URL:https://www.sa.edu/event/mens-soccer-st-andrews-nc-at-ciu-sc/
LOCATION:NC
END:VEVENT
BEGIN:VEVENT
DTSTART;VALUE=DATE:20240924
DTEND;VALUE=DATE:20240925
DTSTAMP:20260420T041313
CREATED:20241001T214006Z
LAST-MODIFIED:20241001T214006Z
UID:12754-1727136000-1727222399@www.sa.edu
SUMMARY:Golf - Away Match
DESCRIPTION:
URL:https://www.sa.edu/event/golf-away-match-2/
LOCATION:NC
END:VEVENT
BEGIN:VEVENT
DTSTART;TZID=America/New_York:20240923T080000
DTEND;TZID=America/New_York:20240923T080000
DTSTAMP:20260420T041313
CREATED:20241001T210601Z
LAST-MODIFIED:20241001T210601Z
UID:12671-1727078400-1727078400@www.sa.edu
SUMMARY:Demi 1 & Session A mid-term grades and semester early check point grades due (12:00 noon)
DESCRIPTION:
URL:https://www.sa.edu/event/demi-1-session-a-mid-term-grades-and-semester-early-check-point-grades-due-1200-noon/
LOCATION:NC
END:VEVENT
BEGIN:VEVENT
DTSTART;VALUE=DATE:20240923
DTEND;VALUE=DATE:20240924
DTSTAMP:20260420T041313
CREATED:20241001T202951Z
LAST-MODIFIED:20241001T202951Z
UID:12579-1727049600-1727135999@www.sa.edu
SUMMARY:(Men's Golf) The East Tennessee Collegiate
DESCRIPTION:
URL:https://www.sa.edu/event/mens-golf-the-east-tennessee-collegiate/
LOCATION:NC
END:VEVENT
BEGIN:VEVENT
DTSTART;VALUE=DATE:20240922
DTEND;VALUE=DATE:20240923
DTSTAMP:20260420T041313
CREATED:20241001T214005Z
LAST-MODIFIED:20241001T214005Z
UID:12753-1726963200-1727049599@www.sa.edu
SUMMARY:Golf - Away Match
DESCRIPTION:
URL:https://www.sa.edu/event/golf-away-match/
LOCATION:NC
END:VEVENT
BEGIN:VEVENT
DTSTART;TZID=America/New_York:20240921T220000
DTEND;TZID=America/New_York:20240921T220000
DTSTAMP:20260420T041313
CREATED:20241001T224621Z
LAST-MODIFIED:20241001T224621Z
UID:12921-1726956000-1726956000@www.sa.edu
SUMMARY:Beach Party
DESCRIPTION:
URL:https://www.sa.edu/event/beach-party/
LOCATION:NC
END:VEVENT
BEGIN:VEVENT
DTSTART;TZID=America/New_York:20240921T150000
DTEND;TZID=America/New_York:20240921T150000
DTSTAMP:20260420T041313
CREATED:20241001T203754Z
LAST-MODIFIED:20241001T203754Z
UID:12601-1726930800-1726930800@www.sa.edu
SUMMARY:(Men's Soccer) St. Andrews (NC) at Johnson (TN)
DESCRIPTION:
URL:https://www.sa.edu/event/mens-soccer-st-andrews-nc-at-johnson-tn/
LOCATION:NC
END:VEVENT
BEGIN:VEVENT
DTSTART;TZID=America/New_York:20240921T140000
DTEND;TZID=America/New_York:20240921T140000
DTSTAMP:20260420T041313
CREATED:20241001T203753Z
LAST-MODIFIED:20241001T203753Z
UID:12599-1726927200-1726927200@www.sa.edu
SUMMARY:(Women's Volleyball) St. Andrews (NC) vs. Lees McCrae
DESCRIPTION:
URL:https://www.sa.edu/event/womens-volleyball-st-andrews-nc-vs-lees-mccrae/
LOCATION:NC
END:VEVENT
BEGIN:VEVENT
DTSTART;TZID=America/New_York:20240921T130000
DTEND;TZID=America/New_York:20240921T130000
DTSTAMP:20260420T041313
CREATED:20241001T203753Z
LAST-MODIFIED:20241001T203753Z
UID:12598-1726923600-1726923600@www.sa.edu
SUMMARY:(Women's Soccer) St. Andrews (NC) at Johnson (TN)
DESCRIPTION:
URL:https://www.sa.edu/event/womens-soccer-st-andrews-nc-at-johnson-tn/
LOCATION:NC
END:VEVENT
BEGIN:VEVENT
DTSTART;TZID=America/New_York:20240921T110000
DTEND;TZID=America/New_York:20240921T110000
DTSTAMP:20260420T041313
CREATED:20241001T203754Z
LAST-MODIFIED:20241001T203754Z
UID:12600-1726916400-1726916400@www.sa.edu
SUMMARY:(Women's Volleyball) St. Andrews (NC) at Milligan (TN)
DESCRIPTION:
URL:https://www.sa.edu/event/womens-volleyball-st-andrews-nc-at-milligan-tn/
LOCATION:NC
END:VEVENT
BEGIN:VEVENT
DTSTART;TZID=America/New_York:20240921T100000
DTEND;TZID=America/New_York:20240921T100000
DTSTAMP:20260420T041313
CREATED:20241001T201547Z
LAST-MODIFIED:20241001T201547Z
UID:12541-1726912800-1726912800@www.sa.edu
SUMMARY:Dunkin Run
DESCRIPTION:
URL:https://www.sa.edu/event/dunkin-run/
LOCATION:NC
END:VEVENT
BEGIN:VEVENT
DTSTART;TZID=America/New_York:20240920T183000
DTEND;TZID=America/New_York:20240920T183000
DTSTAMP:20260420T041313
CREATED:20241001T203553Z
LAST-MODIFIED:20241001T203553Z
UID:12595-1726857000-1726857000@www.sa.edu
SUMMARY:(Women's Volleyball) St. Andrews (NC) at Pikeville (	KY)
DESCRIPTION:
URL:https://www.sa.edu/event/womens-volleyball-st-andrews-nc-at-pikeville-ky/
LOCATION:NC
END:VEVENT
BEGIN:VEVENT
DTSTART;VALUE=DATE:20240920
DTEND;VALUE=DATE:20240921
DTSTAMP:20260420T041313
CREATED:20241001T213807Z
LAST-MODIFIED:20241001T213807Z
UID:12752-1726790400-1726876799@www.sa.edu
SUMMARY:Womens Volley Ball Away Game
DESCRIPTION:
URL:https://www.sa.edu/event/womens-volley-ball-away-game/
LOCATION:NC
END:VEVENT
BEGIN:VEVENT
DTSTART;TZID=America/New_York:20240919T190000
DTEND;TZID=America/New_York:20240919T190000
DTSTAMP:20260420T041313
CREATED:20241001T205958Z
LAST-MODIFIED:20241001T205958Z
UID:12657-1726772400-1726772400@www.sa.edu
SUMMARY:Sci-Fi Film Series
DESCRIPTION:————\nFrom:	Kuhn\, Justin\nSent:	Friday\, September 13\, 2024 12:40 PM\nTo:	All_Students\nSubject:	Sci-Fi Film Series \nGreetings\, students. \nWho wants to watch some sci-fi movies this year?  \nTo coincide with the Science Fiction course I am currently teaching\, the Honors program will be hosting a science fiction film series. For the Fall semester\, screenings will take place at 7 PM on the first floor of the DeTamble Library on the dates listed below. Light snacks will be provided. All students are welcome. \n9/19: Gattaca (1997). What if people could genetically enhance their babies\, but your parents couldn’t afford it? \n10/24: Donnie Darko (2001). What if a six-foot tall rabbit said that you could prevent the end of the world\, but you’re just a high school student? \n11/21: Mad Max Fury Road (2015). What if the world has already ended\, but you’re alive to witness the aftermath? \nHope to see some of you this semester! \nAll the best\,\nDr. K
URL:https://www.sa.edu/event/sci-fi-film-series/
LOCATION:NC
END:VEVENT
BEGIN:VEVENT
DTSTART;TZID=America/New_York:20240919T140000
DTEND;TZID=America/New_York:20240919T140000
DTSTAMP:20260420T041313
CREATED:20241001T224621Z
LAST-MODIFIED:20241001T224621Z
UID:12920-1726754400-1726754400@www.sa.edu
SUMMARY:Town Hall Meeting (Faculty\, Coaches\, Staff)
DESCRIPTION:———— \nFrom: McDavid\, Stephanie \nSent: Friday\, September 13\, 2024 10:48 AM \nSubject: Invitation: Town Hall Meeting 9/19/24 at 2-4:30 p.m.  \nAttachments: Strategic Horizons Activity Teams-2.docx \nDear St. Andrews Community\, \nYou are invited to a campus-wide Town Hall meeting on Thursday\, September 19\, from 2:00-4:30 PM in Avinger\, where we will continue our important conversation surrounding the uKNIGHTed Strategic Plan. We are pleased to have Dr. Nelson Marquez and Dr. Edan Marquez joining us for this event. \nAt this meeting\, Dr. Malik will share the feedback that has been gathered regarding our university’s strengths\, needs\, and potential priorities as we look ahead to the next five years. Our goal is to work together to determine how we can best position St. Andrews for future success. Additionally\, Dr. Marquez will engage us in a campus-wide activity that facilitates collaboration across departments\, providing a creative space for us to discuss and envision our shared path forward. Take note of the team you will be joining on the document attached and come ready to share. \nWhile we know this is short notice\, we hope your schedule will allow you to join us for this important discussion. If you are unable to attend\, we understand and will ensure that you remain informed of the key points and outcomes. \nWe look forward to your participation and the opportunity to collaborate as a uKNIGHTed campus community. \nBest regards\, \nStephanie McDavid \nDean of Academic Affairs \nSt. Andrews University \n(A Branch of Webber International University) \n910-277-3934 \nmcdavids@sa.edu
URL:https://www.sa.edu/event/town-hall-meeting-faculty-coaches-staff/
LOCATION:NC
END:VEVENT
BEGIN:VEVENT
DTSTART;TZID=America/New_York:20240919T083000
DTEND;TZID=America/New_York:20240919T083000
DTSTAMP:20260420T041313
CREATED:20241001T205958Z
LAST-MODIFIED:20241001T205958Z
UID:12656-1726734600-1726734600@www.sa.edu
SUMMARY:Dunkin' Cruiser here on Thursday
DESCRIPTION:————\nFrom:	Stanley\, Brian K\nSent:	Monday\, September 16\, 2024 10:41 AM\nTo:	All_Staff; All_Faculty; Athletics; Equestrian Staff\nSubject:	Dunkin’ Cruiser here on Thursday  \nGood Morning\,  \nStop by and try the new Dunk-a-Latte on Thursday morning!    \nBrian K. Stanley    He/Him \nVice President of Enrollment Management  \n1700 Dogwood Mile \nLaurinburg\, NC 28352 \nPhone: 910-277-5453
URL:https://www.sa.edu/event/dunkin-cruiser-here-on-thursday/
LOCATION:NC
END:VEVENT
BEGIN:VEVENT
DTSTART;VALUE=DATE:20240919
DTEND;VALUE=DATE:20240920
DTSTAMP:20260420T041313
CREATED:20241001T213806Z
LAST-MODIFIED:20241001T213806Z
UID:12751-1726704000-1726790399@www.sa.edu
SUMMARY:JV Mens Soccer
DESCRIPTION:
URL:https://www.sa.edu/event/jv-mens-soccer/
LOCATION:NC
END:VEVENT
BEGIN:VEVENT
DTSTART;TZID=America/New_York:20240918T150000
DTEND;TZID=America/New_York:20240918T150000
DTSTAMP:20260420T041313
CREATED:20241001T203554Z
LAST-MODIFIED:20241001T203554Z
UID:12596-1726671600-1726671600@www.sa.edu
SUMMARY:(Women's Soccer) Brenau (GA) vs. St. Andrews (NC)
DESCRIPTION:
URL:https://www.sa.edu/event/womens-soccer-brenau-ga-vs-st-andrews-nc/
LOCATION:NC
END:VEVENT
BEGIN:VEVENT
DTSTART;TZID=America/New_York:20240917T183000
DTEND;TZID=America/New_York:20240917T183000
DTSTAMP:20260420T041313
CREATED:20241001T203554Z
LAST-MODIFIED:20241001T203554Z
UID:12597-1726597800-1726597800@www.sa.edu
SUMMARY:(Women's Volleyball) Columbia (SC) vs. St. Andrews (NC)
DESCRIPTION:
URL:https://www.sa.edu/event/womens-volleyball-columbia-sc-vs-st-andrews-nc/
LOCATION:NC
END:VEVENT
END:VCALENDAR